BEGIN:VCALENDAR
VERSION:2.0
PRODID:icalendar-ruby
CALSCALE:GREGORIAN
METHOD:PUBLISH
BEGIN:VTIMEZONE
TZID:Australia/Adelaide
BEGIN:DAYLIGHT
DTSTART:20181007T030000
TZOFFSETFROM:+0930
TZOFFSETTO:+1030
RRULE:FREQ=YEARLY;BYDAY=1SU;BYMONTH=10
TZNAME:ACDT
END:DAYLIGHT
BEGIN:STANDARD
DTSTART:20190407T020000
TZOFFSETFROM:+1030
TZOFFSETTO:+0930
RRULE:FREQ=YEARLY;BYDAY=1SU;BYMONTH=4
TZNAME:ACST
END:STANDARD
END:VTIMEZONE
BEGIN:VEVENT
DTSTAMP:20190301T010418Z
UID:inspection_486912
DTSTART;TZID=Australia/Adelaide:20190303T133000
DTEND;TZID=Australia/Adelaide:20190303T140000
CLASS:PUBLIC
CREATED:20190228T144130
DESCRIPTION: 
LAST-MODIFIED:20190228T144130
LOCATION:13/14 Jacob Street\, MARION SA 5043\, Australia
SUMMARY:13/14 Jacob Street\,  Inspection
URL:http://www.dgrealestate.com.au/
END:VEVENT
END:VCALENDAR
