BEGIN:VCALENDAR
VERSION:2.0
PRODID:icalendar-ruby
CALSCALE:GREGORIAN
METHOD:PUBLISH
BEGIN:VTIMEZONE
TZID:Australia/Adelaide
BEGIN:DAYLIGHT
DTSTART:20181007T030000
TZOFFSETFROM:+0930
TZOFFSETTO:+1030
RRULE:FREQ=YEARLY;BYDAY=1SU;BYMONTH=10
TZNAME:ACDT
END:DAYLIGHT
BEGIN:STANDARD
DTSTART:20190407T020000
TZOFFSETFROM:+1030
TZOFFSETTO:+0930
RRULE:FREQ=YEARLY;BYDAY=1SU;BYMONTH=4
TZNAME:ACST
END:STANDARD
END:VTIMEZONE
BEGIN:VEVENT
DTSTAMP:20190301T010758Z
UID:inspection_486520
DTSTART;TZID=Australia/Adelaide:20190302T120000
DTEND;TZID=Australia/Adelaide:20190302T121500
CLASS:PUBLIC
CREATED:20190228T044146
DESCRIPTION: 
LAST-MODIFIED:20190228T044146
LOCATION:53 Avocet Drive\, MAWSON LAKES SA 5095\, Australia
SUMMARY:53 Avocet Drive\,  Inspection
URL:http://www.dgrealestate.com.au/
END:VEVENT
END:VCALENDAR
