BEGIN:VCALENDAR
VERSION:2.0
PRODID:icalendar-ruby
CALSCALE:GREGORIAN
METHOD:PUBLISH
BEGIN:VTIMEZONE
TZID:Australia/Adelaide
BEGIN:DAYLIGHT
DTSTART:20181007T030000
TZOFFSETFROM:+0930
TZOFFSETTO:+1030
RRULE:FREQ=YEARLY;BYDAY=1SU;BYMONTH=10
TZNAME:ACDT
END:DAYLIGHT
BEGIN:STANDARD
DTSTART:20190407T020000
TZOFFSETFROM:+1030
TZOFFSETTO:+0930
RRULE:FREQ=YEARLY;BYDAY=1SU;BYMONTH=4
TZNAME:ACST
END:STANDARD
END:VTIMEZONE
BEGIN:VEVENT
DTSTAMP:20190301T010807Z
UID:inspection_486259
DTSTART;TZID=Australia/Adelaide:20190302T131500
DTEND;TZID=Australia/Adelaide:20190302T133000
CLASS:PUBLIC
CREATED:20190227T154225
DESCRIPTION: 
LAST-MODIFIED:20190227T154225
LOCATION:401\, 406 and 201 246-248 Franklin Street\, ADELAIDE SA 5000\, Aus
 tralia
SUMMARY:401\, 406 and 201 246-248 Franklin Street\,  Inspection
URL:http://www.dgrealestate.com.au/
END:VEVENT
END:VCALENDAR
