BEGIN:VCALENDAR
VERSION:2.0
PRODID:icalendar-ruby
CALSCALE:GREGORIAN
METHOD:PUBLISH
BEGIN:VTIMEZONE
TZID:Australia/Adelaide
BEGIN:DAYLIGHT
DTSTART:20181007T030000
TZOFFSETFROM:+0930
TZOFFSETTO:+1030
RRULE:FREQ=YEARLY;BYDAY=1SU;BYMONTH=10
TZNAME:ACDT
END:DAYLIGHT
BEGIN:STANDARD
DTSTART:20190407T020000
TZOFFSETFROM:+1030
TZOFFSETTO:+0930
RRULE:FREQ=YEARLY;BYDAY=1SU;BYMONTH=4
TZNAME:ACST
END:STANDARD
END:VTIMEZONE
BEGIN:VEVENT
DTSTAMP:20190301T010813Z
UID:inspection_485490
DTSTART;TZID=Australia/Adelaide:20190302T141500
DTEND;TZID=Australia/Adelaide:20190302T143000
CLASS:PUBLIC
CREATED:20190226T154127
DESCRIPTION: 
LAST-MODIFIED:20190226T154127
LOCATION:2 Mcewin Street\, RENOWN PARK SA 5008\, Australia
SUMMARY:2 Mcewin Street\,  Inspection
URL:http://www.dgrealestate.com.au/
END:VEVENT
END:VCALENDAR
